Package: CompoundDb Version: 1.12.1 Command: rm -rf CompoundDb.buildbin-libdir && mkdir CompoundDb.buildbin-libdir && /Users/biocbuild/BBS/utils/build-universal.sh CompoundDb_1.12.1.tar.gz /Library/Frameworks/R.framework/Resources/bin/R CompoundDb.buildbin-libdir StartedAt: 2025-10-15 17:58:18 -0400 (Wed, 15 Oct 2025) EndedAt: 2025-10-15 17:58:47 -0400 (Wed, 15 Oct 2025) EllapsedTime: 28.8 seconds RetCode: 0 Status: OK PackageFile: CompoundDb_1.12.1.tgz PackageFileSize: 1.446 MiB