Package: ComplexHeatmap Version: 2.24.1 Command: /home/biocbuild/bbs-3.21-bioc/R/bin/R CMD INSTALL ComplexHeatmap StartedAt: 2025-10-15 15:13:35 -0400 (Wed, 15 Oct 2025) EndedAt: 2025-10-15 15:13:55 -0400 (Wed, 15 Oct 2025) EllapsedTime: 20.1 seconds RetCode: 0 Status: OK