Package: ComplexHeatmap Version: 2.24.1 Command: /home/biocbuild/bbs-3.21-bioc/R/bin/R CMD build --keep-empty-dirs --no-resave-data ComplexHeatmap StartedAt: 2025-10-15 16:52:50 -0400 (Wed, 15 Oct 2025) EndedAt: 2025-10-15 16:53:21 -0400 (Wed, 15 Oct 2025) EllapsedTime: 31.0 seconds RetCode: 0 Status: OK PackageFile: ComplexHeatmap_2.24.1.tar.gz PackageFileSize: 1.393 MiB