Package: ComPrAn Version: 1.16.0 Command: E:\biocbuild\bbs-3.21-bioc\R\bin\R.exe CMD check --no-multiarch --install=check:ComPrAn.install-out.txt --library=E:\biocbuild\bbs-3.21-bioc\R\library --no-vignettes --timings ComPrAn_1.16.0.tar.gz StartedAt: 2025-08-15 00:51:04 -0400 (Fri, 15 Aug 2025) EndedAt: 2025-08-15 00:52:20 -0400 (Fri, 15 Aug 2025) EllapsedTime: 76.6 seconds RetCode: 0 Status: OK CheckDir: ComPrAn.Rcheck Warnings: 0