Package: Cogito Version: 1.14.0 Command: /home/biocbuild/R/R/bin/R CMD INSTALL Cogito StartedAt: 2025-09-29 20:58:05 -0000 (Mon, 29 Sep 2025) EndedAt: 2025-09-29 20:58:58 -0000 (Mon, 29 Sep 2025) EllapsedTime: 53.7 seconds RetCode: 0 Status: OK