Package: Cogito Version: 1.14.0 Command: /home/biocbuild/R/R/bin/R CMD check --install=check:Cogito.install-out.txt --library=/home/biocbuild/R/R/site-library --no-vignettes --timings Cogito_1.14.0.tar.gz StartedAt: 2025-09-30 08:17:15 -0000 (Tue, 30 Sep 2025) EndedAt: 2025-09-30 08:23:14 -0000 (Tue, 30 Sep 2025) EllapsedTime: 359.2 seconds RetCode: 0 Status: OK CheckDir: Cogito.Rcheck Warnings: 0