Package: Cogito Version: 1.14.0 Command: /home/biocbuild/R/R/bin/R CMD build --keep-empty-dirs --no-resave-data Cogito StartedAt: 2025-09-25 23:54:12 -0000 (Thu, 25 Sep 2025) EndedAt: 2025-09-25 23:55:47 -0000 (Thu, 25 Sep 2025) EllapsedTime: 95.0 seconds RetCode: 0 Status: OK PackageFile: Cogito_1.14.0.tar.gz PackageFileSize: 892.9 KiB