Package: Cogito Version: 1.14.0 Command: /Library/Frameworks/R.framework/Resources/bin/R CMD check --install=check:Cogito.install-out.txt --library=/Library/Frameworks/R.framework/Resources/library --no-vignettes --timings Cogito_1.14.0.tar.gz StartedAt: 2025-10-14 16:51:13 -0400 (Tue, 14 Oct 2025) EndedAt: 2025-10-14 16:56:43 -0400 (Tue, 14 Oct 2025) EllapsedTime: 330.0 seconds RetCode: 0 Status: OK CheckDir: Cogito.Rcheck Warnings: 0