Package: Cogito Version: 1.14.0 Command: rm -rf Cogito.buildbin-libdir && mkdir Cogito.buildbin-libdir && /Users/biocbuild/BBS/utils/build-universal.sh Cogito_1.14.0.tar.gz /Library/Frameworks/R.framework/Resources/bin/R Cogito.buildbin-libdir StartedAt: 2025-10-15 17:57:06 -0400 (Wed, 15 Oct 2025) EndedAt: 2025-10-15 17:57:56 -0400 (Wed, 15 Oct 2025) EllapsedTime: 49.6 seconds RetCode: 0 Status: OK PackageFile: Cogito_1.14.0.tgz PackageFileSize: 1.22 MiB