Package: CoSIA Version: 1.8.0 Command: rm -rf CoSIA.buildbin-libdir && mkdir CoSIA.buildbin-libdir && E:\biocbuild\bbs-3.21-bioc\R\bin\R.exe CMD INSTALL --build --library=CoSIA.buildbin-libdir CoSIA_1.8.0.tar.gz StartedAt: 2025-08-15 09:03:37 -0400 (Fri, 15 Aug 2025) EndedAt: 2025-08-15 09:04:03 -0400 (Fri, 15 Aug 2025) EllapsedTime: 26.7 seconds RetCode: 0 Status: OK PackageFile: CoSIA_1.8.0.zip PackageFileSize: 1.279 MiB