Package: CoSIA Version: 1.8.0 Command: /home/biocbuild/R/R/bin/R CMD INSTALL CoSIA StartedAt: 2025-10-13 21:19:28 -0000 (Mon, 13 Oct 2025) EndedAt: 2025-10-13 21:19:52 -0000 (Mon, 13 Oct 2025) EllapsedTime: 24.3 seconds RetCode: 0 Status: OK