Package: CoSIA Version: 1.8.0 Command: /Library/Frameworks/R.framework/Resources/bin/R CMD check --install=check:CoSIA.install-out.txt --library=/Library/Frameworks/R.framework/Resources/library --no-vignettes --timings CoSIA_1.8.0.tar.gz StartedAt: 2025-10-14 17:20:57 -0400 (Tue, 14 Oct 2025) EndedAt: 2025-10-14 18:00:58 -0400 (Tue, 14 Oct 2025) EllapsedTime: 2400.7 seconds RetCode: None Status: TIMEOUT CheckDir: CoSIA.Rcheck Warnings: NA