Package: CoGAPS Version: 3.28.0 Command: E:\biocbuild\bbs-3.21-bioc\R\bin\R.exe CMD check --no-multiarch --install=check:CoGAPS.install-out.txt --library=E:\biocbuild\bbs-3.21-bioc\R\library --no-vignettes --timings CoGAPS_3.28.0.tar.gz StartedAt: 2025-08-15 00:47:17 -0400 (Fri, 15 Aug 2025) EndedAt: 2025-08-15 00:59:39 -0400 (Fri, 15 Aug 2025) EllapsedTime: 742.1 seconds RetCode: 0 Status: OK CheckDir: CoGAPS.Rcheck Warnings: 0