Package: CoGAPS Version: 3.28.0 Command: chmod a+r CoGAPS -R && E:\biocbuild\bbs-3.21-bioc\R\bin\R.exe CMD build --keep-empty-dirs --no-resave-data CoGAPS StartedAt: 2025-08-14 18:10:22 -0400 (Thu, 14 Aug 2025) EndedAt: 2025-08-14 18:13:24 -0400 (Thu, 14 Aug 2025) EllapsedTime: 181.5 seconds RetCode: 0 Status: OK PackageFile: CoGAPS_3.28.0.tar.gz PackageFileSize: 19.8 MiB