Package: CoGAPS Version: 3.28.0 Command: rm -rf CoGAPS.buildbin-libdir && mkdir CoGAPS.buildbin-libdir && E:\biocbuild\bbs-3.21-bioc\R\bin\R.exe CMD INSTALL --build --library=CoGAPS.buildbin-libdir CoGAPS_3.28.0.tar.gz StartedAt: 2025-08-15 09:01:58 -0400 (Fri, 15 Aug 2025) EndedAt: 2025-08-15 09:05:13 -0400 (Fri, 15 Aug 2025) EllapsedTime: 194.9 seconds RetCode: 0 Status: OK PackageFile: CoGAPS_3.28.0.zip PackageFileSize: 20.74 MiB