Package: CoGAPS Version: 3.28.0 Command: /home/biocbuild/bbs-3.21-bioc/R/bin/R CMD check --install=check:CoGAPS.install-out.txt --library=/home/biocbuild/bbs-3.21-bioc/R/site-library --timings CoGAPS_3.28.0.tar.gz StartedAt: 2025-10-15 21:55:28 -0400 (Wed, 15 Oct 2025) EndedAt: 2025-10-15 22:00:34 -0400 (Wed, 15 Oct 2025) EllapsedTime: 306.3 seconds RetCode: 0 Status: OK CheckDir: CoGAPS.Rcheck Warnings: 0