Package: CoGAPS Version: 3.28.0 Command: /Library/Frameworks/R.framework/Resources/bin/R CMD check --install=check:CoGAPS.install-out.txt --library=/Library/Frameworks/R.framework/Resources/library --no-vignettes --timings CoGAPS_3.28.0.tar.gz StartedAt: 2025-10-14 01:46:57 -0400 (Tue, 14 Oct 2025) EndedAt: 2025-10-14 01:56:36 -0400 (Tue, 14 Oct 2025) EllapsedTime: 579.0 seconds RetCode: 0 Status: OK CheckDir: CoGAPS.Rcheck Warnings: 0