Package: CoGAPS Version: 3.28.0 Command: /Library/Frameworks/R.framework/Resources/bin/R CMD INSTALL CoGAPS StartedAt: 2025-04-21 15:18:33 -0400 (Mon, 21 Apr 2025) EndedAt: 2025-04-21 15:21:17 -0400 (Mon, 21 Apr 2025) EllapsedTime: 163.3 seconds RetCode: 0 Status: OK