Package: CoGAPS Version: 3.28.0 Command: /home/biocbuild/R/R/bin/R CMD check --install=check:CoGAPS.install-out.txt --library=/home/biocbuild/R/R/site-library --no-vignettes --timings CoGAPS_3.28.0.tar.gz StartedAt: 2025-10-14 07:41:21 -0000 (Tue, 14 Oct 2025) EndedAt: 2025-10-14 07:47:39 -0000 (Tue, 14 Oct 2025) EllapsedTime: 377.2 seconds RetCode: 0 Status: OK CheckDir: CoGAPS.Rcheck Warnings: 0