Package: CoGAPS Version: 3.28.0 Command: /home/biocbuild/R/R/bin/R CMD build --keep-empty-dirs --no-resave-data CoGAPS StartedAt: 2025-10-13 23:45:16 -0000 (Mon, 13 Oct 2025) EndedAt: 2025-10-13 23:47:55 -0000 (Mon, 13 Oct 2025) EllapsedTime: 159.0 seconds RetCode: 0 Status: OK PackageFile: CoGAPS_3.28.0.tar.gz PackageFileSize: 19.85 MiB