Package: CoGAPS Version: 3.28.0 Command: /Library/Frameworks/R.framework/Resources/bin/R CMD INSTALL CoGAPS StartedAt: 2025-10-13 16:12:02 -0400 (Mon, 13 Oct 2025) EndedAt: 2025-10-13 16:14:21 -0400 (Mon, 13 Oct 2025) EllapsedTime: 139.3 seconds RetCode: 0 Status: OK