Package: CoGAPS Version: 3.28.0 Command: /Library/Frameworks/R.framework/Resources/bin/R CMD build --keep-empty-dirs --no-resave-data CoGAPS StartedAt: 2025-10-13 21:40:40 -0400 (Mon, 13 Oct 2025) EndedAt: 2025-10-13 21:42:51 -0400 (Mon, 13 Oct 2025) EllapsedTime: 131.0 seconds RetCode: 0 Status: OK PackageFile: CoGAPS_3.28.0.tar.gz PackageFileSize: 19.83 MiB