Package: CoGAPS Version: 3.28.0 Command: rm -rf CoGAPS.buildbin-libdir && mkdir CoGAPS.buildbin-libdir && /Users/biocbuild/BBS/utils/build-universal.sh CoGAPS_3.28.0.tar.gz /Library/Frameworks/R.framework/Resources/bin/R CoGAPS.buildbin-libdir StartedAt: 2025-10-15 17:56:31 -0400 (Wed, 15 Oct 2025) EndedAt: 2025-10-15 17:59:07 -0400 (Wed, 15 Oct 2025) EllapsedTime: 156.5 seconds RetCode: 0 Status: OK PackageFile: CoGAPS_3.28.0.tgz PackageFileSize: 20.51 MiB