Package: CoCiteStats Version: 1.80.0 Command: E:\biocbuild\bbs-3.21-bioc\R\bin\R.exe CMD INSTALL CoCiteStats StartedAt: 2025-08-14 16:41:46 -0400 (Thu, 14 Aug 2025) EndedAt: 2025-08-14 16:42:09 -0400 (Thu, 14 Aug 2025) EllapsedTime: 22.9 seconds RetCode: 0 Status: OK