Package: CoCiteStats Version: 1.80.0 Command: chmod a+r CoCiteStats -R && E:\biocbuild\bbs-3.21-bioc\R\bin\R.exe CMD build --keep-empty-dirs --no-resave-data CoCiteStats StartedAt: 2025-08-14 18:09:55 -0400 (Thu, 14 Aug 2025) EndedAt: 2025-08-14 18:09:58 -0400 (Thu, 14 Aug 2025) EllapsedTime: 2.7 seconds RetCode: 0 Status: OK PackageFile: CoCiteStats_1.80.0.tar.gz PackageFileSize: 5.345 KiB