Package: CoCiteStats Version: 1.80.0 Command: /Library/Frameworks/R.framework/Resources/bin/R CMD build --keep-empty-dirs --no-resave-data CoCiteStats StartedAt: 2025-10-13 18:01:55 -0400 (Mon, 13 Oct 2025) EndedAt: 2025-10-13 18:01:57 -0400 (Mon, 13 Oct 2025) EllapsedTime: 2.3 seconds RetCode: 0 Status: OK PackageFile: CoCiteStats_1.80.0.tar.gz PackageFileSize: 5.347 KiB