Package: CoCiteStats Version: 1.80.0 Command: /home/biocbuild/R/R/bin/R CMD check --install=check:CoCiteStats.install-out.txt --library=/home/biocbuild/R/R/site-library --no-vignettes --timings CoCiteStats_1.80.0.tar.gz StartedAt: 2025-10-14 07:40:58 -0000 (Tue, 14 Oct 2025) EndedAt: 2025-10-14 07:45:48 -0000 (Tue, 14 Oct 2025) EllapsedTime: 289.2 seconds RetCode: 0 Status: OK CheckDir: CoCiteStats.Rcheck Warnings: 0