Package: CoCiteStats Version: 1.80.0 Command: /Library/Frameworks/R.framework/Resources/bin/R CMD build --keep-empty-dirs --no-resave-data CoCiteStats StartedAt: 2025-10-13 21:38:50 -0400 (Mon, 13 Oct 2025) EndedAt: 2025-10-13 21:38:51 -0400 (Mon, 13 Oct 2025) EllapsedTime: 1.2 seconds RetCode: 0 Status: OK PackageFile: CoCiteStats_1.80.0.tar.gz PackageFileSize: 5.35 KiB