Package: ClusterSignificance Version: 1.36.0 Command: /home/biocbuild/bbs-3.21-bioc/R/bin/R CMD INSTALL ClusterSignificance StartedAt: 2025-10-15 15:05:17 -0400 (Wed, 15 Oct 2025) EndedAt: 2025-10-15 15:05:28 -0400 (Wed, 15 Oct 2025) EllapsedTime: 11.4 seconds RetCode: 0 Status: OK