Package: ClusterSignificance Version: 1.36.0 Command: /home/biocbuild/bbs-3.21-bioc/R/bin/R CMD build --keep-empty-dirs --no-resave-data ClusterSignificance StartedAt: 2025-10-15 16:48:13 -0400 (Wed, 15 Oct 2025) EndedAt: 2025-10-15 16:49:16 -0400 (Wed, 15 Oct 2025) EllapsedTime: 63.1 seconds RetCode: 0 Status: OK PackageFile: ClusterSignificance_1.36.0.tar.gz PackageFileSize: 1.828 MiB