Package: ClusterSignificance Version: 1.36.0 Command: /Library/Frameworks/R.framework/Resources/bin/R CMD INSTALL ClusterSignificance StartedAt: 2025-10-13 15:11:16 -0400 (Mon, 13 Oct 2025) EndedAt: 2025-10-13 15:11:43 -0400 (Mon, 13 Oct 2025) EllapsedTime: 26.7 seconds RetCode: 0 Status: OK