Package: ClusterSignificance Version: 1.36.0 Command: /Library/Frameworks/R.framework/Resources/bin/R CMD build --keep-empty-dirs --no-resave-data ClusterSignificance StartedAt: 2025-10-13 17:58:55 -0400 (Mon, 13 Oct 2025) EndedAt: 2025-10-13 18:01:32 -0400 (Mon, 13 Oct 2025) EllapsedTime: 157.0 seconds RetCode: 0 Status: OK PackageFile: ClusterSignificance_1.36.0.tar.gz PackageFileSize: 2.107 MiB