Package: ClusterFoldSimilarity Version: 1.4.0 Command: /home/biocbuild/bbs-3.21-bioc/R/bin/R CMD build --keep-empty-dirs --no-resave-data ClusterFoldSimilarity StartedAt: 2025-10-15 16:47:41 -0400 (Wed, 15 Oct 2025) EndedAt: 2025-10-15 16:56:02 -0400 (Wed, 15 Oct 2025) EllapsedTime: 501.5 seconds RetCode: 0 Status: OK PackageFile: ClusterFoldSimilarity_1.4.0.tar.gz PackageFileSize: 1.572 MiB