Package: ClusterFoldSimilarity Version: 1.4.0 Command: rm -rf ClusterFoldSimilarity.buildbin-libdir && mkdir ClusterFoldSimilarity.buildbin-libdir && /Users/biocbuild/BBS/utils/build-universal.sh ClusterFoldSimilarity_1.4.0.tar.gz /Library/Frameworks/R.framework/Resources/bin/R ClusterFoldSimilarity.buildbin-libdir StartedAt: 2025-10-14 13:04:26 -0400 (Tue, 14 Oct 2025) EndedAt: 2025-10-14 13:06:10 -0400 (Tue, 14 Oct 2025) EllapsedTime: 103.4 seconds RetCode: 0 Status: OK PackageFile: ClusterFoldSimilarity_1.4.0.tgz PackageFileSize: 1.714 MiB