Package: ClusterFoldSimilarity Version: 1.4.0 Command: /Library/Frameworks/R.framework/Resources/bin/R CMD INSTALL ClusterFoldSimilarity StartedAt: 2025-10-13 16:27:58 -0400 (Mon, 13 Oct 2025) EndedAt: 2025-10-13 16:28:41 -0400 (Mon, 13 Oct 2025) EllapsedTime: 43.0 seconds RetCode: 0 Status: OK