Package: ClusterFoldSimilarity Version: 1.4.0 Command: /Library/Frameworks/R.framework/Resources/bin/R CMD build --keep-empty-dirs --no-resave-data ClusterFoldSimilarity StartedAt: 2025-10-13 21:27:29 -0400 (Mon, 13 Oct 2025) EndedAt: 2025-10-13 21:38:39 -0400 (Mon, 13 Oct 2025) EllapsedTime: 670.0 seconds RetCode: 0 Status: OK PackageFile: ClusterFoldSimilarity_1.4.0.tar.gz PackageFileSize: 1.686 MiB