Package: ClusterFoldSimilarity Version: 1.4.0 Command: rm -rf ClusterFoldSimilarity.buildbin-libdir && mkdir ClusterFoldSimilarity.buildbin-libdir && /Users/biocbuild/BBS/utils/build-universal.sh ClusterFoldSimilarity_1.4.0.tar.gz /Library/Frameworks/R.framework/Resources/bin/R ClusterFoldSimilarity.buildbin-libdir StartedAt: 2025-10-15 17:53:47 -0400 (Wed, 15 Oct 2025) EndedAt: 2025-10-15 17:54:36 -0400 (Wed, 15 Oct 2025) EllapsedTime: 48.3 seconds RetCode: 0 Status: OK PackageFile: ClusterFoldSimilarity_1.4.0.tgz PackageFileSize: 1.714 MiB