Package: Clomial Version: 1.44.0 Command: /home/biocbuild/R/R/bin/R CMD build --keep-empty-dirs --no-resave-data Clomial StartedAt: 2025-10-13 23:40:39 -0000 (Mon, 13 Oct 2025) EndedAt: 2025-10-13 23:41:00 -0000 (Mon, 13 Oct 2025) EllapsedTime: 21.0 seconds RetCode: 0 Status: OK PackageFile: Clomial_1.44.0.tar.gz PackageFileSize: 1.454 MiB