Package: Chicago Version: 1.36.0 Command: /Library/Frameworks/R.framework/Resources/bin/R CMD INSTALL Chicago StartedAt: 2025-10-13 15:14:36 -0400 (Mon, 13 Oct 2025) EndedAt: 2025-10-13 15:15:37 -0400 (Mon, 13 Oct 2025) EllapsedTime: 60.5 seconds RetCode: 0 Status: OK