Package: Chicago Version: 1.36.0 Command: rm -rf Chicago.buildbin-libdir && mkdir Chicago.buildbin-libdir && /Users/biocbuild/BBS/utils/build-universal.sh Chicago_1.36.0.tar.gz /Library/Frameworks/R.framework/Resources/bin/R Chicago.buildbin-libdir StartedAt: 2025-04-21 22:29:24 -0400 (Mon, 21 Apr 2025) EndedAt: 2025-04-21 22:29:28 -0400 (Mon, 21 Apr 2025) EllapsedTime: 4.1 seconds RetCode: 0 Status: OK PackageFile: Chicago_1.36.0.tgz PackageFileSize: 1.464 MiB