Package: ChemmineR Version: 3.60.0 Command: /home/biocbuild/bbs-3.21-bioc/R/bin/R CMD check --install=check:ChemmineR.install-out.txt --library=/home/biocbuild/bbs-3.21-bioc/R/site-library --timings ChemmineR_3.60.0.tar.gz StartedAt: 2025-10-15 21:38:56 -0400 (Wed, 15 Oct 2025) EndedAt: 2025-10-15 21:41:15 -0400 (Wed, 15 Oct 2025) EllapsedTime: 139.2 seconds RetCode: 0 Status: WARNINGS CheckDir: ChemmineR.Rcheck Warnings: 2