Package: ChemmineR Version: 3.60.0 Command: /Library/Frameworks/R.framework/Resources/bin/R CMD build --keep-empty-dirs --no-resave-data ChemmineR StartedAt: 2025-10-13 17:49:12 -0400 (Mon, 13 Oct 2025) EndedAt: 2025-10-13 17:51:37 -0400 (Mon, 13 Oct 2025) EllapsedTime: 145.9 seconds RetCode: 0 Status: OK PackageFile: ChemmineR_3.60.0.tar.gz PackageFileSize: 2.244 MiB