Package: ChemmineR Version: 3.60.0 Command: /Library/Frameworks/R.framework/Resources/bin/R CMD INSTALL ChemmineR StartedAt: 2025-10-13 15:32:19 -0400 (Mon, 13 Oct 2025) EndedAt: 2025-10-13 15:32:47 -0400 (Mon, 13 Oct 2025) EllapsedTime: 28.0 seconds RetCode: 0 Status: OK