Package: ChemmineR Version: 3.60.0 Maintainer: Thomas Girke MaintainerEmail: thomas.girke at ucr.edu git_url: https://git.bioconductor.org/packages/ChemmineR git_branch: RELEASE_3_21 git_last_commit: 0061b9b git_last_commit_date: 2025-04-15 09:43:15 -0400 (Tue, 15 Apr 2025)