Package: ChIPseqR Version: 1.62.0 Command: rm -rf ChIPseqR.buildbin-libdir && mkdir ChIPseqR.buildbin-libdir && E:\biocbuild\bbs-3.21-bioc\R\bin\R.exe CMD INSTALL --build --library=ChIPseqR.buildbin-libdir ChIPseqR_1.62.0.tar.gz StartedAt: 2025-08-15 08:58:57 -0400 (Fri, 15 Aug 2025) EndedAt: 2025-08-15 09:00:12 -0400 (Fri, 15 Aug 2025) EllapsedTime: 74.9 seconds RetCode: 0 Status: OK PackageFile: ChIPseqR_1.62.0.zip PackageFileSize: 1.337 MiB