Package: ChIPseqR Version: 1.62.0 Command: /Library/Frameworks/R.framework/Resources/bin/R CMD build --keep-empty-dirs --no-resave-data ChIPseqR StartedAt: 2025-10-13 21:05:16 -0400 (Mon, 13 Oct 2025) EndedAt: 2025-10-13 21:06:48 -0400 (Mon, 13 Oct 2025) EllapsedTime: 91.5 seconds RetCode: 0 Status: OK PackageFile: ChIPseqR_1.62.0.tar.gz PackageFileSize: 729.9 KiB