Package: ChIPseeker Version: 1.44.0 Command: chmod a+r ChIPseeker -R && E:\biocbuild\bbs-3.21-bioc\R\bin\R.exe CMD build --keep-empty-dirs --no-resave-data ChIPseeker StartedAt: 2025-08-14 18:01:26 -0400 (Thu, 14 Aug 2025) EndedAt: 2025-08-14 18:12:17 -0400 (Thu, 14 Aug 2025) EllapsedTime: 651.3 seconds RetCode: 0 Status: OK PackageFile: ChIPseeker_1.44.0.tar.gz PackageFileSize: 6.643 MiB