Package: ChIPseeker Version: 1.44.0 Command: /home/biocbuild/R/R/bin/R CMD INSTALL ChIPseeker StartedAt: 2025-10-13 21:17:27 -0000 (Mon, 13 Oct 2025) EndedAt: 2025-10-13 21:18:34 -0000 (Mon, 13 Oct 2025) EllapsedTime: 66.7 seconds RetCode: 0 Status: OK