Package: ChIPseeker Version: 1.44.0 Command: /home/biocbuild/R/R/bin/R CMD build --keep-empty-dirs --no-resave-data ChIPseeker StartedAt: 2025-10-13 23:34:47 -0000 (Mon, 13 Oct 2025) EndedAt: 2025-10-13 23:47:37 -0000 (Mon, 13 Oct 2025) EllapsedTime: 769.8 seconds RetCode: 0 Status: OK PackageFile: ChIPseeker_1.44.0.tar.gz PackageFileSize: 7.072 MiB