Package: ChIPseeker Version: 1.44.0 Command: /Library/Frameworks/R.framework/Resources/bin/R CMD check --install=check:ChIPseeker.install-out.txt --library=/Library/Frameworks/R.framework/Resources/library --no-vignettes --timings ChIPseeker_1.44.0.tar.gz StartedAt: 2025-04-21 18:36:31 -0400 (Mon, 21 Apr 2025) EndedAt: 2025-04-21 18:39:27 -0400 (Mon, 21 Apr 2025) EllapsedTime: 176.0 seconds RetCode: 0 Status: OK CheckDir: ChIPseeker.Rcheck Warnings: 0